BEGIN:VCALENDAR
VERSION:2.0
PRODID:-//bytepages-events//NONSGML V0.1.2//EN
BEGIN:VEVENT
SUMMARY:National Human Services Data Consortium (NHSDC)
DTSTART;VALUE=DATE-TIME:20191015T130000Z
DTEND;VALUE=DATE-TIME:20191017T210000Z
DTSTAMP;VALUE=DATE-TIME:20191015T130000Z
UID:event-1@kamanaonahelu.org
LOCATION:701 E 11th St\, Austin\, TX 78701
URL:http://kamanaonahelu.org/events/2019-national-human-services-data-cons
 ortium-nhsdc/
END:VEVENT
END:VCALENDAR
